BEGIN:VCALENDAR
VERSION:2.0
PRODID:-//The Seven Chakra Revolution - ECPv6.8.3//NONSGML v1.0//EN
CALSCALE:GREGORIAN
METHOD:PUBLISH
X-WR-CALNAME:The Seven Chakra Revolution
X-ORIGINAL-URL:https://thesevenchakrarevolution.com
X-WR-CALDESC:Veranstaltungen für The Seven Chakra Revolution
REFRESH-INTERVAL;VALUE=DURATION:PT1H
X-Robots-Tag:noindex
X-PUBLISHED-TTL:PT1H
BEGIN:VTIMEZONE
TZID:UTC
BEGIN:STANDARD
TZOFFSETFROM:+0000
TZOFFSETTO:+0000
TZNAME:UTC
DTSTART:20240101T000000
END:STANDARD
END:VTIMEZONE
BEGIN:VEVENT
DTSTART;TZID=UTC:20241108T110000
DTEND;TZID=UTC:20241110T170000
DTSTAMP:20260421T173623
CREATED:20241018T222431Z
LAST-MODIFIED:20241018T222707Z
UID:2072-1731063600-1731258000@thesevenchakrarevolution.com
SUMMARY:Kashmiri Tantra Massage with Swami Anahata
DESCRIPTION:
URL:https://thesevenchakrarevolution.com/event/kashmiri-tantra-massage-with-swami-anahata/
LOCATION:Muufo Yoga Studio\, Limmattalstrasse 206\, Zürich\, Zürich\, 8049\, Switzerland
ORGANIZER;CN="The Seven Chakra Revolution":MAILTO:info@thesevenchakrarevolution.com
END:VEVENT
END:VCALENDAR