BEGIN:VCALENDAR
VERSION:2.0
PRODID:-//The Seven Chakra Revolution - ECPv6.8.3//NONSGML v1.0//EN
CALSCALE:GREGORIAN
METHOD:PUBLISH
X-ORIGINAL-URL:https://thesevenchakrarevolution.com
X-WR-CALDESC:Veranstaltungen für The Seven Chakra Revolution
REFRESH-INTERVAL;VALUE=DURATION:PT1H
X-Robots-Tag:noindex
X-PUBLISHED-TTL:PT1H
BEGIN:VTIMEZONE
TZID:UTC
BEGIN:STANDARD
TZOFFSETFROM:+0000
TZOFFSETTO:+0000
TZNAME:UTC
DTSTART:20250101T000000
END:STANDARD
END:VTIMEZONE
BEGIN:VEVENT
DTSTART;TZID=UTC:20250404T160000
DTEND;TZID=UTC:20250406T170000
DTSTAMP:20260421T090047
CREATED:20241129T165830Z
LAST-MODIFIED:20241129T170843Z
UID:2751-1743782400-1743958800@thesevenchakrarevolution.com
SUMMARY:Master Lover Experience
DESCRIPTION:Master Lover Experience RetreatA transformative Tantra retreat for singles and couples\, guiding you on a profound journey to mastering love\, intimacy\, and authentic connection. Experience conscious touch\, deep presence\, and the integration of heart\, body\, and mind. This retreat provides a safe space for healing\, growth\, and a deeper understanding of love and partnership.
URL:https://thesevenchakrarevolution.com/event/master-lover-experience/
LOCATION:Kientalerhof\, Griesalpstrasse 44\, Zürich\, Kiental\, 3723\, Switzerland
ORGANIZER;CN="The Seven Chakra Revolution":MAILTO:info@thesevenchakrarevolution.com
END:VEVENT
END:VCALENDAR