BEGIN:VCALENDAR
VERSION:2.0
PRODID:-//The Seven Chakra Revolution - ECPv6.8.3//NONSGML v1.0//EN
CALSCALE:GREGORIAN
METHOD:PUBLISH
X-ORIGINAL-URL:https://thesevenchakrarevolution.com
X-WR-CALDESC:Veranstaltungen für The Seven Chakra Revolution
REFRESH-INTERVAL;VALUE=DURATION:PT1H
X-Robots-Tag:noindex
X-PUBLISHED-TTL:PT1H
BEGIN:VTIMEZONE
TZID:UTC
BEGIN:STANDARD
TZOFFSETFROM:+0000
TZOFFSETTO:+0000
TZNAME:UTC
DTSTART:20250101T000000
END:STANDARD
END:VTIMEZONE
BEGIN:VEVENT
DTSTART;TZID=UTC:20250308T093000
DTEND;TZID=UTC:20250309T170000
DTSTAMP:20260421T090416
CREATED:20241030T164613Z
LAST-MODIFIED:20241030T164710Z
UID:2459-1741426200-1741539600@thesevenchakrarevolution.com
SUMMARY:Sakral Chakra\, 2-Tages- Retreat
DESCRIPTION:
URL:https://thesevenchakrarevolution.com/event/sakral-chakra-2-tages-retreat/
LOCATION:Jupiter Space\, Frankentalerstrasse 55\, Zürich\, Zürich\, 8049\, Switzerland
ORGANIZER;CN="The Seven Chakra Revolution":MAILTO:info@thesevenchakrarevolution.com
END:VEVENT
BEGIN:VEVENT
DTSTART;TZID=UTC:20250313T190000
DTEND;TZID=UTC:20250313T220000
DTSTAMP:20260421T090416
CREATED:20241030T172029Z
LAST-MODIFIED:20241030T172029Z
UID:2484-1741892400-1741903200@thesevenchakrarevolution.com
SUMMARY:Tantra Abendveranstaltung
DESCRIPTION:
URL:https://thesevenchakrarevolution.com/event/tantra-abendveranstaltung-6/
LOCATION:Jupiter Space\, Frankentalerstrasse 55\, Zürich\, Zürich\, 8049\, Switzerland
ORGANIZER;CN="The Seven Chakra Revolution":MAILTO:info@thesevenchakrarevolution.com
END:VEVENT
BEGIN:VEVENT
DTSTART;TZID=UTC:20250321T190000
DTEND;TZID=UTC:20250321T220000
DTSTAMP:20260421T090416
CREATED:20241030T172102Z
LAST-MODIFIED:20241030T172102Z
UID:2486-1742583600-1742594400@thesevenchakrarevolution.com
SUMMARY:Tantra Abendveranstaltung
DESCRIPTION:
URL:https://thesevenchakrarevolution.com/event/tantra-abendveranstaltung-7/
LOCATION:Jupiter Space\, Frankentalerstrasse 55\, Zürich\, Zürich\, 8049\, Switzerland
ORGANIZER;CN="The Seven Chakra Revolution":MAILTO:info@thesevenchakrarevolution.com
END:VEVENT
BEGIN:VEVENT
DTSTART;TZID=UTC:20250326T190000
DTEND;TZID=UTC:20250326T220000
DTSTAMP:20260421T090416
CREATED:20241030T172124Z
LAST-MODIFIED:20241030T172124Z
UID:2488-1743015600-1743026400@thesevenchakrarevolution.com
SUMMARY:Tantra Abendveranstaltung
DESCRIPTION:
URL:https://thesevenchakrarevolution.com/event/tantra-abendveranstaltung-8/
LOCATION:Jupiter Space\, Frankentalerstrasse 55\, Zürich\, Zürich\, 8049\, Switzerland
ORGANIZER;CN="The Seven Chakra Revolution":MAILTO:info@thesevenchakrarevolution.com
END:VEVENT
END:VCALENDAR